BEGIN:VCALENDAR
VERSION:2.0
PRODID:-//The Arc of Loudoun - ECPv6.11.2.1//NONSGML v1.0//EN
CALSCALE:GREGORIAN
METHOD:PUBLISH
X-ORIGINAL-URL:https://thearcofloudoun.org
X-WR-CALDESC:Events for The Arc of Loudoun
REFRESH-INTERVAL;VALUE=DURATION:PT1H
X-Robots-Tag:noindex
X-PUBLISHED-TTL:PT1H
BEGIN:VTIMEZONE
TZID:America/New_York
BEGIN:DAYLIGHT
TZOFFSETFROM:-0500
TZOFFSETTO:-0400
TZNAME:EDT
DTSTART:20250309T070000
END:DAYLIGHT
BEGIN:STANDARD
TZOFFSETFROM:-0400
TZOFFSETTO:-0500
TZNAME:EST
DTSTART:20251102T060000
END:STANDARD
END:VTIMEZONE
BEGIN:VEVENT
DTSTART;TZID=America/New_York:20250731T130000
DTEND;TZID=America/New_York:20250731T150000
DTSTAMP:20260419T093404
CREATED:20250122T144254Z
LAST-MODIFIED:20250407T161424Z
UID:18929-1753966800-1753974000@thearcofloudoun.org
SUMMARY:You Belong Here Disability Awareness and Accessibility Training
DESCRIPTION:Roughly a quarter of all U.S. adults have a disability—if you own or manage a business\, that’s a lot of potential customers. \nThe Arc of Loudoun’s You Belong Here Disability Awareness and Accessibility Training helps businesses and their staff realize\, understand and address the barriers people with all types of disabilities may face when they try to shop\, stay or work at those businesses\, and help businesses understand how people with disabilities might look for when finding and choosing a place to visit\, shop or work. \nClick here to register!\nOn-site training is available! For more information\, contact us at info@thearcofloudoun.org.\nWhen you complete the training you will receive a You Belong Here certification valid for a year\, and a sensory comfort kit and reference materials to take back to work for a refresher on the training any time. \nThe training is offered by The Arc of Loudoun. The Arc of Loudoun’s mission is to advocate for\, educate\, serve and support people with disabilities. The Arc of Loudoun is committeed to a just\, equitable world for people with disabilities. \nClick here to register!\nOn-site training is available! For more information\, contact us at info@thearcofloudoun.org.
URL:https://thearcofloudoun.org/event/you-belong-here-disability-awareness-and-accessibility-training-5/
CATEGORIES:You Belong Here
ATTACH;FMTTYPE=image/jpeg:https://thearcofloudoun.org/wp-content/uploads/2025/01/you-belong-here-flyer-july31-1-3.jpg
END:VEVENT
BEGIN:VEVENT
DTSTART;TZID=America/New_York:20250731T080000
DTEND;TZID=America/New_York:20250731T100000
DTSTAMP:20260419T093404
CREATED:20250122T144208Z
LAST-MODIFIED:20250407T161635Z
UID:18927-1753948800-1753956000@thearcofloudoun.org
SUMMARY:You Belong Here Disability Awareness and Accessibility Training
DESCRIPTION:Roughly a quarter of all U.S. adults have a disability—if you own or manage a business\, that’s a lot of potential customers. \nThe Arc of Loudoun’s You Belong Here Disability Awareness and Accessibility Training helps businesses and their staff realize\, understand and address the barriers people with all types of disabilities may face when they try to shop\, stay or work at those businesses\, and help businesses understand how people with disabilities might look for when finding and choosing a place to visit\, shop or work. \nClick here to register!\nOn-site training is available! For more information\, contact us at info@thearcofloudoun.org.\nWhen you complete the training you will receive a You Belong Here certification valid for a year\, and a sensory comfort kit and reference materials to take back to work for a refresher on the training any time. \nThe training is offered by The Arc of Loudoun. The Arc of Loudoun’s mission is to advocate for\, educate\, serve and support people with disabilities. The Arc of Loudoun is committeed to a just\, equitable world for people with disabilities. \nClick here to register!\nOn-site training is available! For more information\, contact us at info@thearcofloudoun.org.
URL:https://thearcofloudoun.org/event/you-belong-here-disability-awareness-and-accessibility-training-4/
CATEGORIES:You Belong Here
ATTACH;FMTTYPE=image/jpeg:https://thearcofloudoun.org/wp-content/uploads/2025/01/you-belong-here-flyer-july31-8-10.jpg
END:VEVENT
BEGIN:VEVENT
DTSTART;TZID=America/New_York:20250424T130000
DTEND;TZID=America/New_York:20250424T150000
DTSTAMP:20260419T093404
CREATED:20250122T144112Z
LAST-MODIFIED:20250407T161532Z
UID:18925-1745499600-1745506800@thearcofloudoun.org
SUMMARY:You Belong Here Disability Awareness and Accessibility Training
DESCRIPTION:Roughly a quarter of all U.S. adults have a disability—if you own or manage a business\, that’s a lot of potential customers. \nThe Arc of Loudoun’s You Belong Here Disability Awareness and Accessibility Training helps businesses and their staff realize\, understand and address the barriers people with all types of disabilities may face when they try to shop\, stay or work at those businesses\, and help businesses understand how people with disabilities might look for when finding and choosing a place to visit\, shop or work. \nClick here to register!\nOn-site training is available! For more information\, contact us at info@thearcofloudoun.org.\nWhen you complete the training you will receive a You Belong Here certification valid for a year\, and a sensory comfort kit and reference materials to take back to work for a refresher on the training any time. \nThe training is offered by The Arc of Loudoun. The Arc of Loudoun’s mission is to advocate for\, educate\, serve and support people with disabilities. The Arc of Loudoun is committeed to a just\, equitable world for people with disabilities. \nClick here to register!\nOn-site training is available! For more information\, contact us at info@thearcofloudoun.org.
URL:https://thearcofloudoun.org/event/you-belong-here-disability-awareness-and-accessibility-training-3/
CATEGORIES:You Belong Here
ATTACH;FMTTYPE=image/jpeg:https://thearcofloudoun.org/wp-content/uploads/2025/01/you-belong-here-flyer-apr24-1-3.jpg
END:VEVENT
BEGIN:VEVENT
DTSTART;TZID=America/New_York:20250424T080000
DTEND;TZID=America/New_York:20250424T100000
DTSTAMP:20260419T093404
CREATED:20250122T144016Z
LAST-MODIFIED:20250407T151930Z
UID:18920-1745481600-1745488800@thearcofloudoun.org
SUMMARY:You Belong Here Disability Awareness and Accessibility Training
DESCRIPTION:Roughly a quarter of all U.S. adults have a disability—if you own or manage a business\, that’s a lot of potential customers. \nThe Arc of Loudoun’s You Belong Here Disability Awareness and Accessibility Training helps businesses and their staff realize\, understand and address the barriers people with all types of disabilities may face when they try to shop\, stay or work at those businesses\, and help businesses understand how people with disabilities might look for when finding and choosing a place to visit\, shop or work. \nClick here to register!\nOn-site training is available! For more information\, contact us at info@thearcofloudoun.org.\nWhen you complete the training you will receive a You Belong Here certification valid for a year\, and a sensory comfort kit and reference materials to take back to work for a refresher on the training any time. \nThe training is offered by The Arc of Loudoun. The Arc of Loudoun’s mission is to advocate for\, educate\, serve and support people with disabilities. The Arc of Loudoun is committeed to a just\, equitable world for people with disabilities. \nClick here to register!\nOn-site training is available! For more information\, contact us at info@thearcofloudoun.org.
URL:https://thearcofloudoun.org/event/you-belong-here-disability-awareness-and-accessibility-training-2/
CATEGORIES:You Belong Here
ATTACH;FMTTYPE=image/jpeg:https://thearcofloudoun.org/wp-content/uploads/2025/01/you-belong-here-flyer.jpg
END:VEVENT
BEGIN:VEVENT
DTSTART;TZID=America/New_York:20250130T130000
DTEND;TZID=America/New_York:20250130T150000
DTSTAMP:20260419T093404
CREATED:20250122T143827Z
LAST-MODIFIED:20250122T143908Z
UID:18914-1738242000-1738249200@thearcofloudoun.org
SUMMARY:You Belong Here Disability Awareness and Accessibility Training
DESCRIPTION:Roughly a quarter of all U.S. adults have a disability—if you own or manage a business\, that’s a lot of potential customers. \nThe Arc of Loudoun’s You Belong Here Disability Awareness and Accessibility Training helps businesses and their staff realize\, understand and address the barriers people with all types of disabilities may face when they try to shop\, stay or work at those businesses\, and help businesses understand how people with disabilities might look for when finding and choosing a place to visit\, shop or work. \nClick here to register!\nOn-site training is available! For more information\, contact us at info@thearcofloudoun.org.\nWhen you complete the training you will receive a You Belong Here certification valid for a year\, and a sensory comfort kit and reference materials to take back to work for a refresher on the training any time. \nThe training is offered by The Arc of Loudoun. The Arc of Loudoun’s mission is to advocate for\, educate\, serve and support people with disabilities. The Arc of Loudoun is committeed to a just\, equitable world for people with disabilities. \nClick here to register!\nOn-site training is available! For more information\, contact us at info@thearcofloudoun.org.
URL:https://thearcofloudoun.org/event/you-belong-here-disability-awareness-and-accessibility-training/
CATEGORIES:You Belong Here
ATTACH;FMTTYPE=image/png:https://thearcofloudoun.org/wp-content/uploads/2025/01/ybh-calendar-img.png
END:VEVENT
END:VCALENDAR