BEGIN:VCALENDAR
VERSION:2.0
PRODID:-//The Arc of Loudoun - ECPv6.11.2.1//NONSGML v1.0//EN
CALSCALE:GREGORIAN
METHOD:PUBLISH
X-ORIGINAL-URL:https://thearcofloudoun.org
X-WR-CALDESC:Events for The Arc of Loudoun
REFRESH-INTERVAL;VALUE=DURATION:PT1H
X-Robots-Tag:noindex
X-PUBLISHED-TTL:PT1H
BEGIN:VTIMEZONE
TZID:America/New_York
BEGIN:DAYLIGHT
TZOFFSETFROM:-0500
TZOFFSETTO:-0400
TZNAME:EDT
DTSTART:20250309T070000
END:DAYLIGHT
BEGIN:STANDARD
TZOFFSETFROM:-0400
TZOFFSETTO:-0500
TZNAME:EST
DTSTART:20251102T060000
END:STANDARD
END:VTIMEZONE
BEGIN:VEVENT
DTSTART;TZID=America/New_York:20250510T103000
DTEND;TZID=America/New_York:20250510T130000
DTSTAMP:20260419T182939
CREATED:20250207T053946Z
LAST-MODIFIED:20250407T192636Z
UID:18960-1746873000-1746882000@thearcofloudoun.org
SUMMARY:Loudoun Safety Fair
DESCRIPTION:Learn what to expect if you’re pulled over driving\, and get comfortable talking to law enforcement in stressful situations! \nThe Loudoun Safety Fair hosted by The Arc of Loudoun is an interactive event designed to help people with disabilities of all ages and their families engage with law enforcement and prepare for real-world situations. Don’t miss this opportunity to learn safety skills and connect with community resources! \nWhat we’ll do: \n\nA law enforcement officer will ask the same questions as a real traffic stop.\nIf desired\, another officer in the car with you to explain what’s happening.\nPractice yourself\, or observe to see how it will go.\nPractice being a driver or a passenger.\nPractice challenging behavior or a good day.\nAsk the officers any questions you have.\n\nPlus: \n\nProject Lifesaver\nTouch a Truck\nRapid SOS\nSimulated 911 calls\n988 Suicide and Crisis Lifeline\nBicycle Safety\nTech for Independence\nDriving resources\nLoudoun Transit and Commuter Services
URL:https://thearcofloudoun.org/event/practice-traffic-stops-3/
LOCATION:Tuscarora High School\, 801 N King St\, Leesburg\, VA\, 20176\, United States
CATEGORIES:Practice Traffic Stops
ATTACH;FMTTYPE=image/png:https://thearcofloudoun.org/wp-content/uploads/2025/02/practice-traffic-stops-calendar-img-2.png
END:VEVENT
END:VCALENDAR