BEGIN:VCALENDAR
VERSION:2.0
PRODID:-//The Arc of Loudoun - ECPv6.11.2.1//NONSGML v1.0//EN
CALSCALE:GREGORIAN
METHOD:PUBLISH
X-WR-CALNAME:The Arc of Loudoun
X-ORIGINAL-URL:https://thearcofloudoun.org
X-WR-CALDESC:Events for The Arc of Loudoun
REFRESH-INTERVAL;VALUE=DURATION:PT1H
X-Robots-Tag:noindex
X-PUBLISHED-TTL:PT1H
BEGIN:VTIMEZONE
TZID:America/New_York
BEGIN:DAYLIGHT
TZOFFSETFROM:-0500
TZOFFSETTO:-0400
TZNAME:EDT
DTSTART:20220313T070000
END:DAYLIGHT
BEGIN:STANDARD
TZOFFSETFROM:-0400
TZOFFSETTO:-0500
TZNAME:EST
DTSTART:20221106T060000
END:STANDARD
END:VTIMEZONE
BEGIN:VEVENT
DTSTART;TZID=America/New_York:20220414T100000
DTEND;TZID=America/New_York:20220414T113000
DTSTAMP:20260421T044150
CREATED:20220304T205112Z
LAST-MODIFIED:20220304T205112Z
UID:15530-1649930400-1649935800@thearcofloudoun.org
SUMMARY:Advocacy Circles (Zoom)
DESCRIPTION:For Adults with I/DD (must be 18 or older.\nLEARN HOW TO “SPEAK UP” & ADVOCATE FOR YOURSELF
URL:https://thearcofloudoun.org/event/advocacy-circles-zoom-2022-04-14/
CATEGORIES:Advocacy Partners
ATTACH;FMTTYPE=:
END:VEVENT
END:VCALENDAR