BEGIN:VCALENDAR
VERSION:2.0
PRODID:-//The Arc of Loudoun - ECPv6.11.2.1//NONSGML v1.0//EN
CALSCALE:GREGORIAN
METHOD:PUBLISH
X-WR-CALNAME:The Arc of Loudoun
X-ORIGINAL-URL:https://thearcofloudoun.org
X-WR-CALDESC:Events for The Arc of Loudoun
REFRESH-INTERVAL;VALUE=DURATION:PT1H
X-Robots-Tag:noindex
X-PUBLISHED-TTL:PT1H
BEGIN:VTIMEZONE
TZID:America/New_York
BEGIN:DAYLIGHT
TZOFFSETFROM:-0500
TZOFFSETTO:-0400
TZNAME:EDT
DTSTART:20260308T070000
END:DAYLIGHT
BEGIN:STANDARD
TZOFFSETFROM:-0400
TZOFFSETTO:-0500
TZNAME:EST
DTSTART:20261101T060000
END:STANDARD
END:VTIMEZONE
BEGIN:VEVENT
DTSTART;TZID=America/New_York:20260425T120000
DTEND;TZID=America/New_York:20260426T170000
DTSTAMP:20260425T212426
CREATED:20260326T134122Z
LAST-MODIFIED:20260326T134214Z
UID:20020-1777118400-1777222800@thearcofloudoun.org
SUMMARY:LoCo Wine Festival
DESCRIPTION:We are excited to announce that The Arc of Loudoun is the charity partner of the LoCo Wine Festival this spring! \nJoin us April 25-26\, 2026\, noon to 5 pm! Get your tickets: locowinefestival.com/get-tickets \nJoin your friends in D.C.’s Wine Country for a wine tasting hosted by Loudoun County’s leading vineyards. Enjoy tastes from different local wineries while you meet and greet the knowledgeable people who are known for their high quality\, Virginia wines. Enjoy delicious food\, live music\, shop from local artisans\, and the opportunity to purchase your favorite wines by the glass\, bottle\, or case. There will be wine tastings\, food trucks\, life music\, and a vendor market! \nSign up for our newsletter and watch your email for discounted tickets!
URL:https://thearcofloudoun.org/event/loco-wine-festival-26/
LOCATION:Old Farm Winery at Hartland\, 23583 Fleetwood Rd\, Aldie\, VA\, 20105\, United States
ATTACH;FMTTYPE=image/png:https://thearcofloudoun.org/wp-content/uploads/2026/03/LoCo-fb.png
END:VEVENT
BEGIN:VEVENT
DTSTART;TZID=America/New_York:20260503T080000
DTEND;TZID=America/New_York:20260503T140000
DTSTAMP:20260425T212426
CREATED:20251212T211253Z
LAST-MODIFIED:20260205T175009Z
UID:19746-1777795200-1777816800@thearcofloudoun.org
SUMMARY:Run\, Walk or Roll the Greenway
DESCRIPTION:Run\, Walk or Roll the Greenway with Us!\nBe The Hero Loudoun Needs! On Sunday\, May 3\, 2026\, the Dulles Greenway will host the 6th Annual Run the Greenway 5K\, 5K Roll\, 10K\, and Kids Fun Run race. This family friendly race is the only time the region’s commuters can legally speed on the Dulles Greenway! Get ready to make a difference as you Run The Greenway and support The Arc of Loudoun! \nRegister Here \n  \nSponsor Run the Greenway!\n100% of your sponsorship will go to The Arc of Loudoun! \nYour sponsorship supports The Arc of Loudoun’s vision to provide a lifetime of opportunities for people with disabilities. Sponsorships range from $10\,000 to $500. \nLearn More about Sponsorships \nRegister early to secure the best price and give yourself extra time to raise funds for the local causes that help our community thrive. We hope to see you there!
URL:https://thearcofloudoun.org/event/run-walk-or-roll-the-greenway-2/
LOCATION:Central Station\, 43751 Central Station Dr.\, Ashburn\, VA\, 20147\, United States
ATTACH;FMTTYPE=image/png:https://thearcofloudoun.org/wp-content/uploads/2025/12/RTG-EventImage.png
END:VEVENT
BEGIN:VEVENT
DTSTART;TZID=America/New_York:20260505T100000
DTEND;TZID=America/New_York:20260505T143000
DTSTAMP:20260425T212426
CREATED:20251217T143025Z
LAST-MODIFIED:20260420T160338Z
UID:19790-1777975200-1777991400@thearcofloudoun.org
SUMMARY:5th Annual Disability Resource Fair
DESCRIPTION:Join us for our annual Disability Resource Fair\, bringing together dozens of employers and community partners in one place. \n2026 Vendor Listing \nHosted by The Arc of Loudoun\, this free event offers families\, self-advocates\, and caregivers the chance to learn more about the disability resources available throughout our community. Learn more about the Disability Resource Fair. \nInterested in supporting this event? Let us know how you would like to be involved. \nDo not miss this opportunity to learn\, connect\, and build meaningful community support.
URL:https://thearcofloudoun.org/event/annual-disability-resource-fair-may-2026/
LOCATION:Claude Moore Recreation & Community Center\, 46105 Loudoun Park Lane\, Sterling\, VA\, 21064\, United States
ATTACH;FMTTYPE=image/png:https://thearcofloudoun.org/wp-content/uploads/2025/12/Disability-Resource-Fair-2026-6.png
END:VEVENT
BEGIN:VEVENT
DTSTART;TZID=America/New_York:20260514T073000
DTEND;TZID=America/New_York:20260514T090000
DTSTAMP:20260425T212426
CREATED:20251217T142256Z
LAST-MODIFIED:20260211T143543Z
UID:19779-1778743800-1778749200@thearcofloudoun.org
SUMMARY:Opportunities Breakfast
DESCRIPTION:Wake Up to Make a Difference!\nThe Arc of Loudoun’s Opportunities Breakfast features a fast-paced program that includes networking\, updates from organizational leadership\, and powerful stories directly from the people whose lives are impacted by our work. There is no cost to attend\, and breakfast is complimentary. \nGifts made during the Opportunities Breakfast directly support The Arc’s mission to advocate for\, educate\, serve\, and support more than 5\,000 people with disabilities and their families each year across our region. \nDress: Business Casual \nRegister to Attend or Sponsor! \n\nWhy Should Guests Attend?\nDisability touches every community. \n\nOne in four adults in the United States has some type of disability\, and one in 36 children is diagnosed with autism (CDC).\nAccording to the 2022 American Community Survey\, 30\,373 Loudoun County residents (7.1 percent) have at least one disability.\nPeople with disabilities experience poverty at twice the rate of those without disabilities\, due in part to barriers in employment\, education\, and the added costs of daily living.\nAs Loudoun County continues to grow\, so does the need for accessible programs and services that support low-income families and individuals with disabilities.\n\nThe Opportunities Breakfast invites guests to learn more\, connect with our mission\, and discover how together we can build a more inclusive community. \nAttendance is free\, and breakfast is provided.While this event is a fundraiser\, guests are simply invited at the end of the program to make a contribution if they feel inspired. There is no minimum or required gift. \n 
URL:https://thearcofloudoun.org/event/opportunities-breakfast-may-2026/
LOCATION:River Creek Club\, 43800 Olympic Blvd.\, Leesburg\, VA\, 20176\, United States
ATTACH;FMTTYPE=image/png:https://thearcofloudoun.org/wp-content/uploads/2025/12/OpportunitiesBreakfast_event.png
END:VEVENT
BEGIN:VEVENT
DTSTART;TZID=America/New_York:20260527T130000
DTEND;TZID=America/New_York:20260527T150000
DTSTAMP:20260425T212426
CREATED:20260303T192113Z
LAST-MODIFIED:20260408T143452Z
UID:19918-1779886800-1779894000@thearcofloudoun.org
SUMMARY:You Belong Here Disability Awareness and Accessibility Training for the Hospitality Industry
DESCRIPTION:This training will be offered in a hybrid format – join us in-person at Visit Loudoun or online! \nRoughly a quarter of all U.S. adults have a disability—if you own or manage a business\, that’s a lot of potential customers. \nThe Arc of Loudoun’s You Belong Here Disability Awareness and Accessibility Training helps businesses and their staff realize\, understand and address the barriers people with all types of disabilities may face when they try to shop\, stay or work at those businesses\, and help businesses understand how people with disabilities might look for when finding and choosing a place to visit\, shop or work. \nWhen you complete the training you will receive a You Belong Here certification valid for a year\, and a sensory comfort kit and reference materials to take back to work for a refresher on the training any time. \nRegister for Training! \n  \nThe training is offered by The Arc of Loudoun. The Arc of Loudoun’s mission is to advocate for\, educate\, serve and support people with disabilities. The Arc of Loudoun is committed to a just\, equitable world for people with disabilities. \nFor more information about the training\, contact us at info@thearcofloudoun.org. \n  \nThe Arc of Loudoun strives to host inclusive\, accessible events that enable everyone\, including people with disabilities\, to engage fully. Anyone who requires a reasonable accommodation for any type of disability or needs language assistance should contact Eileen Shaffer at ally@thearcofloudoun.org. Three business days’ notice is requested.
URL:https://thearcofloudoun.org/event/you-belong-here-disability-awareness-and-accessibility-training-05-2026/
LOCATION:Visit Loudoun\, 112 South St SE\, Leesburg\, 20175\, United States
ATTACH;FMTTYPE=image/png:https://thearcofloudoun.org/wp-content/uploads/2025/12/YBH-event-scaled.png
END:VEVENT
BEGIN:VEVENT
DTSTART;TZID=America/New_York:20260609T170000
DTEND;TZID=America/New_York:20260609T190000
DTSTAMP:20260425T212426
CREATED:20251217T142640Z
LAST-MODIFIED:20260420T160613Z
UID:19786-1781024400-1781031600@thearcofloudoun.org
SUMMARY:Annual Meeting
DESCRIPTION:Save the Date! \nJoin us for The Arc of Loudoun’s Annual Meeting\, a special gathering to celebrate our impact\, share important updates\, and look ahead to the future. This meeting brings together staff\, board members\, supporters\, and community partners to reflect on our accomplishments\, recognize outstanding contributions\, and reaffirm our commitment to advocating for\, educating\, serving\, and supporting people with disabilities and their families in our community.
URL:https://thearcofloudoun.org/event/annual-meeting-june-2026/
LOCATION:VA
ATTACH;FMTTYPE=image/jpeg:https://thearcofloudoun.org/wp-content/uploads/2025/12/Artboard-18-scaled.jpg
END:VEVENT
BEGIN:VEVENT
DTSTART;VALUE=DATE:20260622
DTEND;VALUE=DATE:20260627
DTSTAMP:20260425T212426
CREATED:20251217T142523Z
LAST-MODIFIED:20260319T141426Z
UID:19782-1782086400-1782518399@thearcofloudoun.org
SUMMARY:iCan Bike Camp
DESCRIPTION:The vast majority of people with disabilities never experience the thrill of independently riding a two-wheel bicycle during their lifetime. Recent research shows that over 80% of people with Autism and 90% of people with Down syndrome never learn to ride a two-wheel bicycle. iCan Bike defies those odds! The program builds on more than twenty years of research at the University of Illinois. Join us for camp the week of June 22nd! \nRide with Us! \nVolunteer with Us! \n  \nRider Information\nPrice: $400 \n\nSchedule \nJune 22nd to June 26\nParent orientation on June 21st \n\nSession #1: 8:30am – 9:45am\nSession #2: 10:05am – 11:20am\nSession #3: 11:40am – 12:55am\nSession #4: 2:00pm – 3:15pm\nSession #5: 3:35pm – 4:50pm\n\nEach rider will attend the same 75-minute session\, Monday through Friday. \n\nImportant to know: \n\nDropping off riders at the program is not permitted. A parent\, legal guardian or other adult authorized to take responsibility for the rider must remain on site for duration of each day’s 75-minute program.\nOn Friday\, a parent\, family member or sibling is expected to participate in the session so they will be able to support the rider after camp ends.\nEach rider is expected to have his/her own bike helmet\, and by Wednesday of that week\, his/her own properly fitted bicycle. Guidelines will be provided.\n\n\nRider requirements: \n\nHave a disability\nMinimum age 8 years old\nAble to sidestep to both sides\nAble to attend camp all 5 days\nAble to walk without assistive device\nMaximum weight 220 lbs.\nWilling and able to wear a properly fitted bike helmet\nMinimum inseam of 20” (measure from floor while rider is wearing sneakers)\nAccompanied by parent/guardian willing and able to intervene or assist staff as requested in addressing any prolonged disruptive or aggressive behavior\n\n  \nRider Registration \n  \nVolunteer Information\nNo prior experience working with people with disabilities necessary! iCan Bike is a week-long camp for people with disabilities; 40 children and young adults learn to ride a bike with the support of 80 volunteers! \nVolunteers walk/jog/run alongside a rider as they learn to ride on a specialized\, adapted bike for a 75-minute session (with short breaks) for five days\, Monday through Friday. You provide encouragement and physical support as needed. The bond between rider and volunteer helps riders stay encouraged and motivated all week and graduate to riding a two-wheel bike independently! \n  \nSchedule \nJune 22nd to June 26\nVolunteer orientation on June 21st \n\nSession #1: 8:30am – 9:45am\nSession #2: 10:05am – 11:20am\nSession #3: 11:40am – 12:55am\nSession #4: 2:00pm – 3:15pm\nSession #5: 3:35pm – 4:50pm\n\n  \nVolunteer Requirements \n\nAt least 14 years of age\nCan attend all five iCan Bike sessions\nAble to walk/jog approximately three miles during each 75-minute session\nAttend orientation Sunday\, June 21\, 1 – 2 pm\n\n  \nVolunteer Registration \n  \nMany Thanks to Our Sponsors!\n \n  \n  \nQuestions? Email us at ally@thearcofloudoun.org
URL:https://thearcofloudoun.org/event/icanbike-june-2026/
LOCATION:Tuscarora High School\, 801 N King St\, Leesburg\, VA\, 20176\, United States
ATTACH;FMTTYPE=image/png:https://thearcofloudoun.org/wp-content/uploads/2025/12/ICanBike-1.png
END:VEVENT
END:VCALENDAR